BEGIN:VCALENDAR
VERSION:2.0
PRODID:-//Salmon Bay Lending - ECPv6.15.20//NONSGML v1.0//EN
CALSCALE:GREGORIAN
METHOD:PUBLISH
X-ORIGINAL-URL:https://salmonbaylending.com
X-WR-CALDESC:Events for Salmon Bay Lending
REFRESH-INTERVAL;VALUE=DURATION:PT1H
X-Robots-Tag:noindex
X-PUBLISHED-TTL:PT1H
BEGIN:VTIMEZONE
TZID:UTC
BEGIN:STANDARD
TZOFFSETFROM:+0000
TZOFFSETTO:+0000
TZNAME:UTC
DTSTART:20170101T000000
END:STANDARD
END:VTIMEZONE
BEGIN:VEVENT
DTSTART;TZID=UTC:20180726T170000
DTEND;TZID=UTC:20180726T190000
DTSTAMP:20260419T104112
CREATED:20180627T012711Z
LAST-MODIFIED:20180726T183152Z
UID:10000005-1532624400-1532631600@salmonbaylending.com
SUMMARY:Happy Hour Q&A with Ruby Grynberg
DESCRIPTION:Have questions about home buying or refinancing?\nAsk an expert! \nRuby Grynberg (NMLS # 92613) will be hanging out at The Yard Cafe on the 4th Tuesday of every month to answer any questions you may have about home buying or refinancing. No appointment needed. Pull up a seat\, order a drink (on us\, of course)\, and ask an expert.
URL:https://salmonbaylending.com/event/happy-hour-qa-with-ruby-grynberg-2018-07-26/2018-07-26/
LOCATION:The Yard Cafe\, 8313 Greenwood Ave N\, Seattle\, WA\, 98103\, United States
ATTACH;FMTTYPE=image/jpeg:https://salmonbaylending.com/wp-content/uploads/2018/06/neighborhood-2-e1530042550464.jpg
ORGANIZER;CN="Ruby Grynberg":MAILTO:ruby@salmonbaylending.com
GEO:47.6895629;-122.3556424
X-APPLE-STRUCTURED-LOCATION;VALUE=URI;X-ADDRESS=The Yard Cafe 8313 Greenwood Ave N Seattle WA 98103 United States;X-APPLE-RADIUS=500;X-TITLE=8313 Greenwood Ave N:geo:-122.3556424,47.6895629
END:VEVENT
END:VCALENDAR