BEGIN:VCALENDAR
VERSION:2.0
PRODID:-//Salmon Bay Lending - ECPv6.15.20//NONSGML v1.0//EN
CALSCALE:GREGORIAN
METHOD:PUBLISH
X-WR-CALNAME:Salmon Bay Lending
X-ORIGINAL-URL:https://salmonbaylending.com
X-WR-CALDESC:Events for Salmon Bay Lending
REFRESH-INTERVAL;VALUE=DURATION:PT1H
X-Robots-Tag:noindex
X-PUBLISHED-TTL:PT1H
BEGIN:VTIMEZONE
TZID:America/Los_Angeles
BEGIN:DAYLIGHT
TZOFFSETFROM:-0800
TZOFFSETTO:-0700
TZNAME:PDT
DTSTART:20220313T100000
END:DAYLIGHT
BEGIN:STANDARD
TZOFFSETFROM:-0700
TZOFFSETTO:-0800
TZNAME:PST
DTSTART:20221106T090000
END:STANDARD
BEGIN:DAYLIGHT
TZOFFSETFROM:-0800
TZOFFSETTO:-0700
TZNAME:PDT
DTSTART:20230312T100000
END:DAYLIGHT
BEGIN:STANDARD
TZOFFSETFROM:-0700
TZOFFSETTO:-0800
TZNAME:PST
DTSTART:20231105T090000
END:STANDARD
BEGIN:DAYLIGHT
TZOFFSETFROM:-0800
TZOFFSETTO:-0700
TZNAME:PDT
DTSTART:20240310T100000
END:DAYLIGHT
BEGIN:STANDARD
TZOFFSETFROM:-0700
TZOFFSETTO:-0800
TZNAME:PST
DTSTART:20241103T090000
END:STANDARD
END:VTIMEZONE
BEGIN:VEVENT
DTSTART;TZID=America/Los_Angeles:20231112T190000
DTEND;TZID=America/Los_Angeles:20231112T220000
DTSTAMP:20260421T155136
CREATED:20230919T181808Z
LAST-MODIFIED:20230919T182239Z
UID:10000011-1699815600-1699826400@salmonbaylending.com
SUMMARY:Ruby and The Klein Party band playing at the Royal Room
DESCRIPTION:Klezmerish music from All the Old Countries with a jazz sensibility and rock-and-roll exuberance.
URL:https://salmonbaylending.com/event/ruby-and-the-klein-party-band-playing-at-the-royal-room-2/
LOCATION:The Royal Room\, 5000 Rainier Avenue S\, Seattle\, Seattle\, WA\, 98118\, United States
ATTACH;FMTTYPE=image/jpeg:https://salmonbaylending.com/wp-content/uploads/2023/09/322706770_3041450376147753_1170389421608750070_n.jpg
END:VEVENT
BEGIN:VEVENT
DTSTART;TZID=America/Los_Angeles:20231001T190000
DTEND;TZID=America/Los_Angeles:20231001T220000
DTSTAMP:20260421T155136
CREATED:20230919T180822Z
LAST-MODIFIED:20230929T184830Z
UID:10000010-1696186800-1696197600@salmonbaylending.com
SUMMARY:Ruby and The Klein Party band playing at the Royal Room
DESCRIPTION:Klezmerish music from All the Old Countries with a jazz sensibility and rock-and-roll exuberance.
URL:https://salmonbaylending.com/event/ruby-and-the-klein-party-band-playing-at-the-royal-room/
LOCATION:The Royal Room\, 5000 Rainier Avenue S\, Seattle\, Seattle\, WA\, 98118\, United States
CATEGORIES:Event
ATTACH;FMTTYPE=image/jpeg:https://salmonbaylending.com/wp-content/uploads/2023/09/322706770_3041450376147753_1170389421608750070_n.jpg
END:VEVENT
END:VCALENDAR