BEGIN:VCALENDAR
VERSION:2.0
PRODID:-//Salmon Bay Lending - ECPv6.15.20//NONSGML v1.0//EN
CALSCALE:GREGORIAN
METHOD:PUBLISH
X-ORIGINAL-URL:https://salmonbaylending.com
X-WR-CALDESC:Events for Salmon Bay Lending
REFRESH-INTERVAL;VALUE=DURATION:PT1H
X-Robots-Tag:noindex
X-PUBLISHED-TTL:PT1H
BEGIN:VTIMEZONE
TZID:UTC
BEGIN:STANDARD
TZOFFSETFROM:+0000
TZOFFSETTO:+0000
TZNAME:UTC
DTSTART:20230101T000000
END:STANDARD
END:VTIMEZONE
BEGIN:VTIMEZONE
TZID:America/Los_Angeles
BEGIN:DAYLIGHT
TZOFFSETFROM:-0800
TZOFFSETTO:-0700
TZNAME:PDT
DTSTART:20230312T100000
END:DAYLIGHT
BEGIN:STANDARD
TZOFFSETFROM:-0700
TZOFFSETTO:-0800
TZNAME:PST
DTSTART:20231105T090000
END:STANDARD
BEGIN:DAYLIGHT
TZOFFSETFROM:-0800
TZOFFSETTO:-0700
TZNAME:PDT
DTSTART:20240310T100000
END:DAYLIGHT
BEGIN:STANDARD
TZOFFSETFROM:-0700
TZOFFSETTO:-0800
TZNAME:PST
DTSTART:20241103T090000
END:STANDARD
BEGIN:DAYLIGHT
TZOFFSETFROM:-0800
TZOFFSETTO:-0700
TZNAME:PDT
DTSTART:20250309T100000
END:DAYLIGHT
BEGIN:STANDARD
TZOFFSETFROM:-0700
TZOFFSETTO:-0800
TZNAME:PST
DTSTART:20251102T090000
END:STANDARD
END:VTIMEZONE
BEGIN:VEVENT
DTSTART;TZID=UTC:20240601T103000
DTEND;TZID=UTC:20240601T130000
DTSTAMP:20260423T124731
CREATED:20240516T151454Z
LAST-MODIFIED:20240516T152031Z
UID:10000460-1717237800-1717246800@salmonbaylending.com
SUMMARY:Phinneywood’s 12 Annual Rainbow Hop
DESCRIPTION:Phinneywood’s 12 Annual Rainbow Hop \n6/1/24 \n10:30am – 1:00pm \nAt our office and all along Greenwood Ave \nFree \nEvent Link:  https://www.phinneycenter.org/events/rainbow-hop/
URL:https://salmonbaylending.com/event/phinneywoods-12-annual-rainbow-hop/
LOCATION:Salmon Bay Lending\, 7919 Greenwood Ave N\, Seattle\, WA\, 98103\, United States
CATEGORIES:Event
ATTACH;FMTTYPE=image/jpeg:https://salmonbaylending.com/wp-content/uploads/2024/05/RainbowHop-2023-1-scaled.jpg
END:VEVENT
BEGIN:VEVENT
DTSTART;TZID=America/Los_Angeles:20240604T123000
DTEND;TZID=America/Los_Angeles:20240604T133000
DTSTAMP:20260423T124731
CREATED:20240419T170227Z
LAST-MODIFIED:20240529T165435Z
UID:10000042-1717504200-1717507800@salmonbaylending.com
SUMMARY:Ask-A-Lender - Market Update
DESCRIPTION:Ask-A-Lender – Market Update
URL:https://salmonbaylending.com/event/ask-a-lender-market-update/2024-06-04/
LOCATION:Zoom
CATEGORIES:Ask A Lender,Event
ATTACH;FMTTYPE=image/png:https://salmonbaylending.com/wp-content/uploads/2024/04/Ask-a-Lender-Wk-1.png
ORGANIZER;CN="Ruby Grynberg":MAILTO:ruby@salmonbaylending.com
END:VEVENT
END:VCALENDAR