BEGIN:VCALENDAR
VERSION:2.0
PRODID:-//Salmon Bay Lending - ECPv6.15.20//NONSGML v1.0//EN
CALSCALE:GREGORIAN
METHOD:PUBLISH
X-ORIGINAL-URL:https://salmonbaylending.com
X-WR-CALDESC:Events for Salmon Bay Lending
REFRESH-INTERVAL;VALUE=DURATION:PT1H
X-Robots-Tag:noindex
X-PUBLISHED-TTL:PT1H
BEGIN:VTIMEZONE
TZID:America/Los_Angeles
BEGIN:DAYLIGHT
TZOFFSETFROM:-0800
TZOFFSETTO:-0700
TZNAME:PDT
DTSTART:20230312T100000
END:DAYLIGHT
BEGIN:STANDARD
TZOFFSETFROM:-0700
TZOFFSETTO:-0800
TZNAME:PST
DTSTART:20231105T090000
END:STANDARD
BEGIN:DAYLIGHT
TZOFFSETFROM:-0800
TZOFFSETTO:-0700
TZNAME:PDT
DTSTART:20240310T100000
END:DAYLIGHT
BEGIN:STANDARD
TZOFFSETFROM:-0700
TZOFFSETTO:-0800
TZNAME:PST
DTSTART:20241103T090000
END:STANDARD
BEGIN:DAYLIGHT
TZOFFSETFROM:-0800
TZOFFSETTO:-0700
TZNAME:PDT
DTSTART:20250309T100000
END:DAYLIGHT
BEGIN:STANDARD
TZOFFSETFROM:-0700
TZOFFSETTO:-0800
TZNAME:PST
DTSTART:20251102T090000
END:STANDARD
END:VTIMEZONE
BEGIN:VEVENT
DTSTART;TZID=America/Los_Angeles:20240330T100000
DTEND;TZID=America/Los_Angeles:20240330T130000
DTSTAMP:20260424T055245
CREATED:20240305T221713Z
LAST-MODIFIED:20240305T221756Z
UID:10000037-1711792800-1711803600@salmonbaylending.com
SUMMARY:Inaugural Salmon Bay Seeed Swap
DESCRIPTION:Give some seeds\, take some seeds. Let’s share the gardening love! \nDo you have leftover seeds from last year’s packets? Did you harvest seeds from last year’s crop? Why not share them with fellow gardeners and grow your community?\nDrop your seeds off at our office between now and March 28th to be entered to win a $50 gift certificate to Swanson’s Nursery. You can drop them off anytime in the box to the left of the front door. If you have a moment\, ring the doorbell and say “Hi!” Please have them clearly labeled with the type of seed and your contact information. \nWe will have envelopes for you to bring your seeds home in. Come meet neighbors\, share gardening tips\, and celebrate SPRING!\nIf you’ve got starts to share please bring them the day of the event \n7919 Greenwood Ave N\, Seattle\, WA 98103-4635\, United States
URL:https://salmonbaylending.com/event/inaugural-salmon-bay-seeed-swap/
LOCATION:Salmon Bay Lending\, 7919 Greenwood Ave N\, Seattle\, WA\, 98103\, United States
CATEGORIES:Event
ATTACH;FMTTYPE=image/jpeg:https://salmonbaylending.com/wp-content/uploads/2024/03/Seed-Swap_FB.jpg
ORGANIZER;CN="Ruby Grynberg":MAILTO:ruby@salmonbaylending.com
END:VEVENT
END:VCALENDAR