BEGIN:VCALENDAR
VERSION:2.0
PRODID:-//Salmon Bay Lending - ECPv6.15.20//NONSGML v1.0//EN
CALSCALE:GREGORIAN
METHOD:PUBLISH
X-WR-CALNAME:Salmon Bay Lending
X-ORIGINAL-URL:https://salmonbaylending.com
X-WR-CALDESC:Events for Salmon Bay Lending
REFRESH-INTERVAL;VALUE=DURATION:PT1H
X-Robots-Tag:noindex
X-PUBLISHED-TTL:PT1H
BEGIN:VTIMEZONE
TZID:America/Los_Angeles
BEGIN:DAYLIGHT
TZOFFSETFROM:-0800
TZOFFSETTO:-0700
TZNAME:PDT
DTSTART:20220313T100000
END:DAYLIGHT
BEGIN:STANDARD
TZOFFSETFROM:-0700
TZOFFSETTO:-0800
TZNAME:PST
DTSTART:20221106T090000
END:STANDARD
BEGIN:DAYLIGHT
TZOFFSETFROM:-0800
TZOFFSETTO:-0700
TZNAME:PDT
DTSTART:20230312T100000
END:DAYLIGHT
BEGIN:STANDARD
TZOFFSETFROM:-0700
TZOFFSETTO:-0800
TZNAME:PST
DTSTART:20231105T090000
END:STANDARD
BEGIN:DAYLIGHT
TZOFFSETFROM:-0800
TZOFFSETTO:-0700
TZNAME:PDT
DTSTART:20240310T100000
END:DAYLIGHT
BEGIN:STANDARD
TZOFFSETFROM:-0700
TZOFFSETTO:-0800
TZNAME:PST
DTSTART:20241103T090000
END:STANDARD
BEGIN:DAYLIGHT
TZOFFSETFROM:-0800
TZOFFSETTO:-0700
TZNAME:PDT
DTSTART:20250309T100000
END:DAYLIGHT
BEGIN:STANDARD
TZOFFSETFROM:-0700
TZOFFSETTO:-0800
TZNAME:PST
DTSTART:20251102T090000
END:STANDARD
BEGIN:DAYLIGHT
TZOFFSETFROM:-0800
TZOFFSETTO:-0700
TZNAME:PDT
DTSTART:20260308T100000
END:DAYLIGHT
BEGIN:STANDARD
TZOFFSETFROM:-0700
TZOFFSETTO:-0800
TZNAME:PST
DTSTART:20261101T090000
END:STANDARD
END:VTIMEZONE
BEGIN:VEVENT
DTSTART;TZID=America/Los_Angeles:20250726T130000
DTEND;TZID=America/Los_Angeles:20250726T150000
DTSTAMP:20260425T152310
CREATED:20250626T211105Z
LAST-MODIFIED:20250717T003205Z
UID:10000856-1753534800-1753542000@salmonbaylending.com
SUMMARY:Adulting 101
DESCRIPTION:For 17- to 24-year-olds (and a parent if they’d like)\, this event is designed to help give young adults the tools they need to successfully navigate the early years of adulthood. In this FREE workshop hosts Ruby Grynberg\, Home Loan Advisor at Salmon Bay Community Lending\, and Allison Booker\, J.D. and Managing Partner at Pacific Evergreen Law Group will discuss the basics of credit use and credit building\, budgeting\, tenant rights\, and more. \nRegister for Adulting 101
URL:https://salmonbaylending.com/event/adulting-101/
LOCATION:Salmon Bay Lending\, 7919 Greenwood Ave N\, Seattle\, WA\, 98103\, United States
CATEGORIES:Class,Event
ATTACH;FMTTYPE=image/jpeg:https://salmonbaylending.com/wp-content/uploads/2025/06/Adulting-101-Calendar-Banner.jpg
END:VEVENT
BEGIN:VEVENT
DTSTART;TZID=America/Los_Angeles:20250712T153000
DTEND;TZID=America/Los_Angeles:20250712T173000
DTSTAMP:20260425T152310
CREATED:20250626T210453Z
LAST-MODIFIED:20250626T211328Z
UID:10000855-1752334200-1752341400@salmonbaylending.com
SUMMARY:Homebuyer Workshop
DESCRIPTION:Free Homebuyer Seminar! Learn the ins and outs of home buying. Whether it’s buying your first home or downsizing\, our experts can steer you in the right direction. We’ll have local real estate brokers and a home loan expert to guide you into home ownership. Find out about down payment assistance programs! \nRegister for the Homebuyer Worksop
URL:https://salmonbaylending.com/event/homebuyer-workshop/
LOCATION:Greenlake Community Center\, 7201 EAST GREEN LAKE DR N\, Seattle\, 98115\, United States
CATEGORIES:Class,Event,Homeowner
ATTACH;FMTTYPE=image/jpeg:https://salmonbaylending.com/wp-content/uploads/2025/06/HomeBuyerEvent.jpg
END:VEVENT
BEGIN:VEVENT
DTSTART;TZID=America/Los_Angeles:20250308T150000
DTEND;TZID=America/Los_Angeles:20250308T170000
DTSTAMP:20260425T152310
CREATED:20250110T181112Z
LAST-MODIFIED:20250129T211215Z
UID:10000602-1741446000-1741453200@salmonbaylending.com
SUMMARY:Adulting 101: Saturday March 8th\, 2025  3pm – 5pm
DESCRIPTION:Adulting 101: \nSaturday March 8th\, 2025\n3pm – 5pm \nFor 17- to 24-year-olds and a parent if they’d like\nHosted by Ruby Grynberg\, Home Loan Advisor & Allison Booker\, J.D.\nDesigned to help give young adults the tools they need to successfully navigate the early years of adulthood. In this FREE workshop Ruby and Allison will discuss the basics of credit use and credit building\, budgeting\, tenant rights\, and more.\nRSVP link
URL:https://salmonbaylending.com/event/adulting-101-saturday-march-8th-2025-3pm-5pm/
LOCATION:Salmon Bay Lending\, 7919 Greenwood Ave N\, Seattle\, WA\, 98103\, United States
CATEGORIES:Class
ATTACH;FMTTYPE=image/jpeg:https://salmonbaylending.com/wp-content/uploads/2025/01/Adulting-101-Calendar-Banner-3.8.25.jpg
END:VEVENT
BEGIN:VEVENT
DTSTART;TZID=America/Los_Angeles:20240229T113000
DTEND;TZID=America/Los_Angeles:20240229T133000
DTSTAMP:20260425T152310
CREATED:20240215T175644Z
LAST-MODIFIED:20240215T181918Z
UID:10000036-1709206200-1709213400@salmonbaylending.com
SUMMARY:Lunch & Learn on lending tools
DESCRIPTION:Join us on February 29th from 11:30AM to 1:30PM for a leap year Lunch & Learn on lending tools to help you compete in the spring market! Ruby Grynberg of Salmon Bay Community Lending will be sharing a suite of lending products that help clients close quickly\, buy a home when you still need to sell and more! Lunch and beverages provided. \nPlease reach out to rebecca@infininitired.com to lean more and RSVP. \nLunch & Learn: February 29th 11:30AM-1:30PM\n4258 Fremont Ave N Seattle\, WA 98103\nFood and drink provided!
URL:https://salmonbaylending.com/event/lunch-learn-on-lending-tools/
LOCATION:WA
CATEGORIES:Class,Event
ATTACH;FMTTYPE=image/jpeg:https://salmonbaylending.com/wp-content/uploads/2024/02/Inifiti-Lunch-Learn.jpg
END:VEVENT
BEGIN:VEVENT
DTSTART;TZID=America/Los_Angeles:20231212T120000
DTEND;TZID=America/Los_Angeles:20231212T133000
DTSTAMP:20260425T152310
CREATED:20231010T181003Z
LAST-MODIFIED:20231010T181003Z
UID:10000021-1702382400-1702387800@salmonbaylending.com
SUMMARY:Zoom Class For First Time Buyers - Goal Setting & Mortgage Basics for First Time Buyers
DESCRIPTION:A class for new buyers (or those whose last purchase was a while ago) where we discuss how to think about your goals and what to know when you start talking rates & fees.\n​​ \n \nRSVP for the Zoom Class
URL:https://salmonbaylending.com/event/zoom-class-for-first-time-buyers-goal-setting-mortgage-basics-for-first-time-buyers-2/
LOCATION:Zoom
CATEGORIES:Class
ATTACH;FMTTYPE=image/jpeg:https://salmonbaylending.com/wp-content/uploads/2023/09/Goal-Setting-Mtg-Basics.jpg
ORGANIZER;CN="Ruby Grynberg":MAILTO:ruby@salmonbaylending.com
END:VEVENT
BEGIN:VEVENT
DTSTART;TZID=America/Los_Angeles:20231129T183000
DTEND;TZID=America/Los_Angeles:20231129T191500
DTSTAMP:20260425T152310
CREATED:20231013T175647Z
LAST-MODIFIED:20231013T205117Z
UID:10000023-1701282600-1701285300@salmonbaylending.com
SUMMARY:Class -Vacation Homes & Income Generating Properties
DESCRIPTION:​​Whether you’re looking to buy a vacation home or looking to get a property that helps pay for itself this is the class for you.. \n\n\n \nRSVP For Event\n  \n\n 
URL:https://salmonbaylending.com/event/class-for-first-time-buyers-goal-setting-mortgage-basics-for-first-time-buyers-3/
LOCATION:Salmon Bay Lending\, 7919 Greenwood Ave N\, Seattle\, WA\, 98103\, United States
CATEGORIES:Class
ATTACH;FMTTYPE=image/png:https://salmonbaylending.com/wp-content/uploads/2023/09/Vacatin-Homes-Income-Gen-Properties-Class.png
ORGANIZER;CN="Ruby Grynberg":MAILTO:ruby@salmonbaylending.com
END:VEVENT
BEGIN:VEVENT
DTSTART;TZID=America/Los_Angeles:20231114T120000
DTEND;TZID=America/Los_Angeles:20231114T131500
DTSTAMP:20260425T152310
CREATED:20231010T180029Z
LAST-MODIFIED:20231024T004638Z
UID:10000019-1699963200-1699967700@salmonbaylending.com
SUMMARY:Zoom Class for Realtors and Buyers - Financing Strategies for a Winning Offer
DESCRIPTION:A class for realtors where we discuss financing options and strategies to help your buyers stand out in a competitive housing market.\n​​ \n\n\n \nRSVP For Zoom Class\n  \n\n 
URL:https://salmonbaylending.com/event/zoom-class-for-realtors-and-buyers-financing-strategies-for-a-winning-offer/
LOCATION:Salmon Bay Lending\, 7919 Greenwood Ave N\, Seattle\, WA\, 98103\, United States
CATEGORIES:Class
ATTACH;FMTTYPE=image/jpeg:https://salmonbaylending.com/wp-content/uploads/2023/09/for-winning-offers-1.jpg
ORGANIZER;CN="Ruby Grynberg":MAILTO:ruby@salmonbaylending.com
END:VEVENT
BEGIN:VEVENT
DTSTART;TZID=America/Los_Angeles:20231108T183000
DTEND;TZID=America/Los_Angeles:20231108T191500
DTSTAMP:20260425T152310
CREATED:20230919T185942Z
LAST-MODIFIED:20231024T004353Z
UID:10000015-1699468200-1699470900@salmonbaylending.com
SUMMARY:Class - Financing Strategies for a Winning Offer
DESCRIPTION:​​An overview of innovative loan products and negotiating strategies to help your offer stand out from the crowd in today’s competitive housing market. \n\n\n \nRSVP For Event\n \nTasty beverages from a local business TBD \n6:30pm – 7:15pm\, Wednesday\, November 8th\, 2023 \n\n 
URL:https://salmonbaylending.com/event/class-financing-strategies-for-a-winning-offer/
LOCATION:Salmon Bay Lending\, 7919 Greenwood Ave N\, Seattle\, WA\, 98103\, United States
CATEGORIES:Class
ATTACH;FMTTYPE=image/jpeg:https://salmonbaylending.com/wp-content/uploads/2023/09/for-winning-offers-1.jpg
ORGANIZER;CN="Ruby Grynberg":MAILTO:ruby@salmonbaylending.com
END:VEVENT
BEGIN:VEVENT
DTSTART;TZID=America/Los_Angeles:20231101T120000
DTEND;TZID=America/Los_Angeles:20231101T133000
DTSTAMP:20260425T152310
CREATED:20230919T190442Z
LAST-MODIFIED:20231010T174130Z
UID:10000016-1698840000-1698845400@salmonbaylending.com
SUMMARY:Zoom Class For First Time Buyers - Goal Setting & Mortgage Basics for First Time Buyers
DESCRIPTION:A class for new buyers (or those whose last purchase was a while ago) where we discuss how to think about your goals and what to know when you start talking rates & fees.\n​​ \n \nRSVP for the Zoom Class
URL:https://salmonbaylending.com/event/zoom-class-for-first-time-buyers-goal-setting-mortgage-basics-for-first-time-buyers/
LOCATION:Zoom
CATEGORIES:Class
ATTACH;FMTTYPE=image/jpeg:https://salmonbaylending.com/wp-content/uploads/2023/09/Goal-Setting-Mtg-Basics.jpg
ORGANIZER;CN="Ruby Grynberg":MAILTO:ruby@salmonbaylending.com
END:VEVENT
BEGIN:VEVENT
DTSTART;TZID=America/Los_Angeles:20231023T120000
DTEND;TZID=America/Los_Angeles:20231023T131500
DTSTAMP:20260425T152310
CREATED:20230919T183255Z
LAST-MODIFIED:20231010T175719Z
UID:10000014-1698062400-1698066900@salmonbaylending.com
SUMMARY:Zoom Class For Realtors - Financing Strategies for a Winning Offer
DESCRIPTION:A class for realtors where we discuss financing options and strategies to help your buyers stand out in a competitive housing market.\n​​ \n\n\n \nRSVP For Zoom Class\n  \n\n 
URL:https://salmonbaylending.com/event/zoom-class-for-realtors-financing-strategies-for-a-winning-offer/
LOCATION:Salmon Bay Lending\, 7919 Greenwood Ave N\, Seattle\, WA\, 98103\, United States
CATEGORIES:Class
ATTACH;FMTTYPE=image/jpeg:https://salmonbaylending.com/wp-content/uploads/2023/09/for-winning-offers-1.jpg
ORGANIZER;CN="Ruby Grynberg":MAILTO:ruby@salmonbaylending.com
END:VEVENT
BEGIN:VEVENT
DTSTART;TZID=America/Los_Angeles:20230919T183000
DTEND;TZID=America/Los_Angeles:20230919T200000
DTSTAMP:20260425T152310
CREATED:20230912T174538Z
LAST-MODIFIED:20230912T182948Z
UID:10000008-1695148200-1695153600@salmonbaylending.com
SUMMARY:Zoom Class - Move or Improve?
DESCRIPTION:Hot on the heels of our August “Move or Improve” class we’re hosting another one! If you missed last month’s class and would like to learn about buying before you sell OR renovating the home you currently own check out our in-person classes on the 13th or our virtual class on the 19th!\n​​\nMove: 6:30-7pm\nfollowed by 15 min Q&A \nImprove: 7:15-7:45pm\nfollowed by 15 minute Q&A \n\n \n\nIn the “Move” section of our Move or Improve class we’ll talk about what to consider when buying a new home and you currently own your home. We’ll discuss things like sources of down payment and what considerations for debt-to-income ratios. We also focus on ways to access the equity in your current home to utilize for your down payment and closing costs and what options are available when you don’t qualify to buy a new home without selling your current home. \nIn the “Improve” section of our Move or Improve class we look at the different options for financing home renovations and which ones work best for your particular project size.  While the focus of the class is on renovation loans we also touch on residential construction loans & Home Equity Lines of credit. We’ll go through an overview of the approval and construction process as well as discuss what the next steps are in moving your project forward. \n \n \nRSVP for a Zoom Class \n 
URL:https://salmonbaylending.com/event/move-or-improve-zoom/
LOCATION:Salmon Bay Lending\, 7919 Greenwood Ave N\, Seattle\, WA\, 98103\, United States
CATEGORIES:Class
ATTACH;FMTTYPE=image/jpeg:https://salmonbaylending.com/wp-content/uploads/2023/09/Move-or-Improve-1.jpg
ORGANIZER;CN="Ruby Grynberg":MAILTO:ruby@salmonbaylending.com
END:VEVENT
BEGIN:VEVENT
DTSTART;TZID=America/Los_Angeles:20230913T183000
DTEND;TZID=America/Los_Angeles:20230913T200000
DTSTAMP:20260425T152310
CREATED:20230912T164011Z
LAST-MODIFIED:20230912T182814Z
UID:10000007-1694629800-1694635200@salmonbaylending.com
SUMMARY:Class - Move or Improve?
DESCRIPTION:Hot on the heels of our August “Move or Improve” class we’re hosting another one! If you missed last month’s class and would like to learn about buying before you sell OR renovating the home you currently own check out our in-person classes on the 13th or our virtual class on the 19th!\n​​\nMove: 6:30-7pm\nfollowed by 15 min Q&A \nImprove: 7:15-7:45pm\nfollowed by 15 minute Q&A \n\n \n\nIn the “Move” section of our Move or Improve class we’ll talk about what to consider when buying a new home and you currently own your home. We’ll discuss things like sources of down payment and what considerations for debt-to-income ratios. We also focus on ways to access the equity in your current home to utilize for your down payment and closing costs and what options are available when you don’t qualify to buy a new home without selling your current home. \nIn the “Improve” section of our Move or Improve class we look at the different options for financing home renovations and which ones work best for your particular project size.  While the focus of the class is on renovation loans we also touch on residential construction loans & Home Equity Lines of credit. We’ll go through an overview of the approval and construction process as well as discuss what the next steps are in moving your project forward. \n \n \nRSVP for an In Person Class \n 
URL:https://salmonbaylending.com/event/move-or-improve-in-person/
LOCATION:Salmon Bay Lending\, 7919 Greenwood Ave N\, Seattle\, WA\, 98103\, United States
CATEGORIES:Class
ATTACH;FMTTYPE=image/jpeg:https://salmonbaylending.com/wp-content/uploads/2023/09/Move-or-Improve-1.jpg
ORGANIZER;CN="Ruby Grynberg":MAILTO:ruby@salmonbaylending.com
END:VEVENT
END:VCALENDAR