BEGIN:VCALENDAR
VERSION:2.0
PRODID:-//Salmon Bay Lending - ECPv6.15.20//NONSGML v1.0//EN
CALSCALE:GREGORIAN
METHOD:PUBLISH
X-ORIGINAL-URL:https://salmonbaylending.com
X-WR-CALDESC:Events for Salmon Bay Lending
REFRESH-INTERVAL;VALUE=DURATION:PT1H
X-Robots-Tag:noindex
X-PUBLISHED-TTL:PT1H
BEGIN:VTIMEZONE
TZID:America/Los_Angeles
BEGIN:DAYLIGHT
TZOFFSETFROM:-0800
TZOFFSETTO:-0700
TZNAME:PDT
DTSTART:20240310T100000
END:DAYLIGHT
BEGIN:STANDARD
TZOFFSETFROM:-0700
TZOFFSETTO:-0800
TZNAME:PST
DTSTART:20241103T090000
END:STANDARD
BEGIN:DAYLIGHT
TZOFFSETFROM:-0800
TZOFFSETTO:-0700
TZNAME:PDT
DTSTART:20250309T100000
END:DAYLIGHT
BEGIN:STANDARD
TZOFFSETFROM:-0700
TZOFFSETTO:-0800
TZNAME:PST
DTSTART:20251102T090000
END:STANDARD
BEGIN:DAYLIGHT
TZOFFSETFROM:-0800
TZOFFSETTO:-0700
TZNAME:PDT
DTSTART:20260308T100000
END:DAYLIGHT
BEGIN:STANDARD
TZOFFSETFROM:-0700
TZOFFSETTO:-0800
TZNAME:PST
DTSTART:20261101T090000
END:STANDARD
END:VTIMEZONE
BEGIN:VEVENT
DTSTART;TZID=America/Los_Angeles:20250727T120000
DTEND;TZID=America/Los_Angeles:20250727T133000
DTSTAMP:20260421T122034
CREATED:20250715T005241Z
LAST-MODIFIED:20250715T005243Z
UID:10000854-1753617600-1753623000@salmonbaylending.com
SUMMARY:CoHome Ownership series
DESCRIPTION:Please RSVP at this link for the CoHome Ownership Event
URL:https://salmonbaylending.com/event/cohome-ownership-series-2/
LOCATION:reSpace\, 123 N 35th St. WA 98103\, Seattle\, WA\, 98103
CATEGORIES:Event
ATTACH;FMTTYPE=image/png:https://salmonbaylending.com/wp-content/uploads/2025/05/Meetup-CoHome-July-27.png
ORGANIZER;CN="Ruby Grynberg":MAILTO:ruby@salmonbaylending.com
END:VEVENT
END:VCALENDAR